BEGIN:VCALENDAR
VERSION:2.0
PRODID:-//Government Executive Consulting Services - ECPv6.15.20//NONSGML v1.0//EN
CALSCALE:GREGORIAN
METHOD:PUBLISH
X-WR-CALNAME:Government Executive Consulting Services
X-ORIGINAL-URL:https://governmentexecutiveconsultingservices.com
X-WR-CALDESC:Events for Government Executive Consulting Services
REFRESH-INTERVAL;VALUE=DURATION:PT1H
X-Robots-Tag:noindex
X-PUBLISHED-TTL:PT1H
BEGIN:VTIMEZONE
TZID:America/New_York
BEGIN:DAYLIGHT
TZOFFSETFROM:-0500
TZOFFSETTO:-0400
TZNAME:EDT
DTSTART:20240310T070000
END:DAYLIGHT
BEGIN:STANDARD
TZOFFSETFROM:-0400
TZOFFSETTO:-0500
TZNAME:EST
DTSTART:20241103T060000
END:STANDARD
BEGIN:DAYLIGHT
TZOFFSETFROM:-0500
TZOFFSETTO:-0400
TZNAME:EDT
DTSTART:20250309T070000
END:DAYLIGHT
BEGIN:STANDARD
TZOFFSETFROM:-0400
TZOFFSETTO:-0500
TZNAME:EST
DTSTART:20251102T060000
END:STANDARD
BEGIN:DAYLIGHT
TZOFFSETFROM:-0500
TZOFFSETTO:-0400
TZNAME:EDT
DTSTART:20260308T070000
END:DAYLIGHT
BEGIN:STANDARD
TZOFFSETFROM:-0400
TZOFFSETTO:-0500
TZNAME:EST
DTSTART:20261101T060000
END:STANDARD
END:VTIMEZONE
BEGIN:VEVENT
DTSTART;TZID=America/New_York:20251008T080000
DTEND;TZID=America/New_York:20251009T170000
DTSTAMP:20260419T205158
CREATED:20250629T211717Z
LAST-MODIFIED:20250629T211717Z
UID:8888-1759910400-1760029200@governmentexecutiveconsultingservices.com
SUMMARY:NAVY CONTRACTING SUMMIT & SHIPBUILDING EXPO
DESCRIPTION:Date and time\n\n\n \n\nOctober 8 · 8am – October 9 · 5pm EDT\n\n\n\n\n\n\n\n\n\n\n\n\n\n\n\nLocation\n\n \n\n801 Mount Vernon Pl NW\, Washington\, DC 20001 \n801 Mount Vernon Pl. NW Washington\, DC 2001 \nGet directions\n\n\n\n\n\n\n\n\n\n\n\nRefund Policy\n\nNo Refunds\n\n\n\n\n\n\n\n\n\n\nAbout this event\n\n\n\n\n\n\nThe 2025 Navy Contracting Summit & Shipbuilding Expo is one of the top National Defense Contracting Events of 2025! Attending the Summit will provide Defense Contractors\, Subcontractors\, and Small Businesses with the latest information on: \n  \n\nNavy FY2026 – Major Procurement Developments\nNavy\, USMC\, U.S. Coast Guard\, and Department of Defense Procurement Requirements & Priorities\nNavy Mission & Contracting Priorities for Weapons\, Shipbuilding\, Aircraft\, Installations\, Logistics\, IT\, Cybersecurity\, AI\, Energy\, Construction\, Engineering\, and more\nNavy Command Mission & Contracting Priorities – including NAVSEA\, NAVFAC\, NAVSUP\, NAVAIR\, and Military Sealift Command\nSpecial Contracting Priorities & Opportunities for Shipbuilding\, Shipyard Modernization\, Ship Sustainment\, Maintenance & Repair\, and Sealift Support\nIndo-Pacific Theater Requirements – Special Funding for Expanded U.S. Pacific Presence Including the latest on AUKUS\nNew Foreign Military Sales (FMS) Contracting Opportunities\nNavy Installation Resiliency and Secure Energy Supply Contracts\nOTA’s and Other Accelerated/Fast-Track Acquisition Strategies and Programs\nMulti-Year Contract Vehicles For Prime Contractors\nPrime Contractor-Small Business Teaming\, Subcontracting & Mentor Protégé Opportunities\nPublic and Private Financing Sources\nSmall Business Financial Resources\nMatchmaking Sessions\, featuring Government Agencies and Prime Contractors\n\n  \nIn its 11th year\, the 2025 Navy Contracting Summit and Shipbuilding Expo brings together: Navy Pentagon Officials\, Navy Command & Base Officials\, Contracting Officers\, Contracting Experts\, Financing Sources\, and Business Leaders nationwide. Hundreds of Prime Contractors\, Subcontractors\, Military Officials\, Contracting Officials\, Financing Experts\, and Defense Agencies from throughout the country. \n\n\n\n\n2025 Navy Defense Contracting Summit & Shipbuilding Expo Agenda \n  \nDAY 1 – October 8\, 2025 \n10:30 AM: On-Site Attendee Registration & Check-In \n10:30 AM – 12:30 PM: Exhibitor Set-Up \n1:15 PM – 3:30 PM: Afternoon General Session \n3:30 PM – 5 PM: In-Person Matchmaking Session I \n5:00 PM – 7:00 PM: VIP Networking Reception \nThe VIP Networking Reception is open to Exhibitors\, Sponsors\, Speakers\, VIP Business Attendees\, and Invited Guests. \nDAY 2 – October 9\, 2025 \n7:30 AM – 8:30 AM: Networking Breakfast with Exhibitors \n7:30 AM – 8:30 AM: In-Person Matchmaking Sign-up \n8:30 AM – 10:30 AM: Morning General Session \n10:30 AM – 11:00 AM: Networking Break \n11:00 AM – 12:30 PM: General Session \n12:30 PM – 1:30 PM: Networking Luncheon \n1:30 PM – 3:30 PM: Afternoon General Session \n3:30 PM – 5:00 PM: In-Person Matchmaking Session II \n3:30 PM: Exhibitor Move-Out \n  \n*Schedule subject to change.
URL:https://governmentexecutiveconsultingservices.com/event/navy-contracting-summit-shipbuilding-expo/
ATTACH;FMTTYPE=image/png:https://governmentexecutiveconsultingservices.com/wp-content/uploads/2025/06/Screen-Shot-2025-06-29-at-5.09.57-PM.png
END:VEVENT
END:VCALENDAR