BEGIN:VCALENDAR
VERSION:2.0
PRODID:-//Government Executive Consulting Services - ECPv6.15.20//NONSGML v1.0//EN
CALSCALE:GREGORIAN
METHOD:PUBLISH
X-ORIGINAL-URL:https://governmentexecutiveconsultingservices.com
X-WR-CALDESC:Events for Government Executive Consulting Services
REFRESH-INTERVAL;VALUE=DURATION:PT1H
X-Robots-Tag:noindex
X-PUBLISHED-TTL:PT1H
BEGIN:VTIMEZONE
TZID:America/New_York
BEGIN:DAYLIGHT
TZOFFSETFROM:-0500
TZOFFSETTO:-0400
TZNAME:EDT
DTSTART:20210314T070000
END:DAYLIGHT
BEGIN:STANDARD
TZOFFSETFROM:-0400
TZOFFSETTO:-0500
TZNAME:EST
DTSTART:20211107T060000
END:STANDARD
BEGIN:DAYLIGHT
TZOFFSETFROM:-0500
TZOFFSETTO:-0400
TZNAME:EDT
DTSTART:20220313T070000
END:DAYLIGHT
BEGIN:STANDARD
TZOFFSETFROM:-0400
TZOFFSETTO:-0500
TZNAME:EST
DTSTART:20221106T060000
END:STANDARD
BEGIN:DAYLIGHT
TZOFFSETFROM:-0500
TZOFFSETTO:-0400
TZNAME:EDT
DTSTART:20230312T070000
END:DAYLIGHT
BEGIN:STANDARD
TZOFFSETFROM:-0400
TZOFFSETTO:-0500
TZNAME:EST
DTSTART:20231105T060000
END:STANDARD
END:VTIMEZONE
BEGIN:VEVENT
DTSTART;TZID=America/New_York:20220721T080000
DTEND;TZID=America/New_York:20220721T120000
DTSTAMP:20260423T103728
CREATED:20220531T001212Z
LAST-MODIFIED:20220531T001212Z
UID:5894-1658390400-1658404800@governmentexecutiveconsultingservices.com
SUMMARY:Live! Casino & Hotel Minority Outreach Fair
DESCRIPTION:The Minority Outreach Fair is intended to assist your company in identifying work and/or contractual opportunities with top prime companies and government agencies. \n8:00am to 12:00 Noon – Featuring over eighty (80) exhibitors including top prime companies and government and local agencies. The exhibitors list will be available on Thursday\, June 30\, 2022. \nThere is so much valuable and worthwhile information distributed at this event that arriving when the event begins at 8:00am is a good idea to accomplish your goals and identify business for your company to pursue.
URL:https://governmentexecutiveconsultingservices.com/event/live-casino-hotel-minority-outreach-fair-4/
ATTACH;FMTTYPE=image/webp:https://governmentexecutiveconsultingservices.com/wp-content/uploads/2022/05/https-cdn.evbuc_.com-images-285018989-2202193195-1-original.20220515-181232.webp
END:VEVENT
END:VCALENDAR