BEGIN:VCALENDAR
VERSION:2.0
PRODID:-//Government Executive Consulting Services - ECPv6.15.20//NONSGML v1.0//EN
CALSCALE:GREGORIAN
METHOD:PUBLISH
X-WR-CALNAME:Government Executive Consulting Services
X-ORIGINAL-URL:https://governmentexecutiveconsultingservices.com
X-WR-CALDESC:Events for Government Executive Consulting Services
REFRESH-INTERVAL;VALUE=DURATION:PT1H
X-Robots-Tag:noindex
X-PUBLISHED-TTL:PT1H
BEGIN:VTIMEZONE
TZID:America/New_York
BEGIN:DAYLIGHT
TZOFFSETFROM:-0500
TZOFFSETTO:-0400
TZNAME:EDT
DTSTART:20240310T070000
END:DAYLIGHT
BEGIN:STANDARD
TZOFFSETFROM:-0400
TZOFFSETTO:-0500
TZNAME:EST
DTSTART:20241103T060000
END:STANDARD
BEGIN:DAYLIGHT
TZOFFSETFROM:-0500
TZOFFSETTO:-0400
TZNAME:EDT
DTSTART:20250309T070000
END:DAYLIGHT
BEGIN:STANDARD
TZOFFSETFROM:-0400
TZOFFSETTO:-0500
TZNAME:EST
DTSTART:20251102T060000
END:STANDARD
BEGIN:DAYLIGHT
TZOFFSETFROM:-0500
TZOFFSETTO:-0400
TZNAME:EDT
DTSTART:20260308T070000
END:DAYLIGHT
BEGIN:STANDARD
TZOFFSETFROM:-0400
TZOFFSETTO:-0500
TZNAME:EST
DTSTART:20261101T060000
END:STANDARD
END:VTIMEZONE
BEGIN:VEVENT
DTSTART;TZID=America/New_York:20250623T173000
DTEND;TZID=America/New_York:20250623T193000
DTSTAMP:20260422T230827
CREATED:20250608T213648Z
LAST-MODIFIED:20250608T213648Z
UID:8836-1750699800-1750707000@governmentexecutiveconsultingservices.com
SUMMARY:Federal Contractors SUMMER Soiree Networking Event
DESCRIPTION:Date and time\n\n\n \n\nMonday\, June 23 · 5:30 – 7:30pm EDT\n\n\n\n\n\n\n\n\n\n\n\n\n\n\n\nLocation\n\n \n\nThe John F. Kennedy Center for the Performing Arts \n2700 F Street Northwest TERRACE LEVEL – KC Cafe Washington\, DC 20566 \nShow map\n\n\n\n\n\n\n\n\n\n\n\nRefund Policy\n\nNo Refunds\n\n\n\n\n\n\n\n\n\n\nAbout this event\n\n\n\n\n\n\nFor over 18 years\, JSchaus & Associates have been hosting networking events for US Federal Government Contractors at The John F Kennedy Center\, (KC Cafe). \nEVENT PARTNER: Bidspeed – https://fedbidspeed.com/ \nFIND US IN THE KC CAFE – ON THE TERRACE LEVEL \nMeet\, mix & mingle with US Federal Government Departments and Agencies as well as contractors\, teaming partners\, and more! \nThe event is 2 hours of hard core “NETWORKING ONLY” in a trade show style format. \nThere are NO speakers. \nThis is NOT a conference. \n>>> THERE IS NO VIRTUAL COMPONENT AS THIS IS A NETWORKING EVENT <<< \nEvent will sell out. Please REGISTER IN ADVANCE as Rates Increase on \nProfessional Dress is required. \nFood and Beverage available for purchase. \nParking available for purchase on-site. \nPublic transport options also available (metro\, bus\, etc) \nPlease see the FAQ’S for more information! \n>>> Meet The FEDERAL GOVERNMENT Participants: \n(Federal Government includes The OSDBU and OSBP Offices) \nDoD – USAF – United States AIr Force \nDoD – DCSA – Defense Counterintelligence & Security Agency \nDoD – NAVAIR – Naval Air Systems Command \nSBA – Small Business Administration \nThe VA – The Department Of Veterans Affairs \nNASA – National Aeuronautics And Space Administration \nThis section will be updated as Federal Government confirms attendance. \nGovernment Attendees are from the OSDBU and OSBP Offices. \n>>> Meet Our EVENT CORPORATE PARTNER: \nBidspeed – https://fedbidspeed.com/ \n>>> Meet Our Event SPONSORS: \nSpartan Shield Solutions – https://www.spartanshield-solutions.com \nPremier Consulting & Integration – https://www.premierconsultingllc.com \nC2 Technologies – https://www.c2ti.com \nKAL Technology\, LLC – https://www.kal.technology/ \nGSA National – https://www.gsanational.com/ \nRXO – https://rxo.com/ \nCassidy Law – https://cassidylawpllc.com/contact-us/ \nAYO Strategic Consulting Group – https://ayoscg.com/ \nDeltek – https://www.deltek.com/ \nCapital Bank of MD – https://capitalbankmd.com/ \nRMA Associates – https://rmafed.com/ \n>>> Meet Our IN-KIND SPONSORS: \nVirginia APEX Accelerator – https://www.virginiaapex.org/ \nGreater Reston Chamber Of Commerce – https://www.restonchamber.org/ \nLost Dog & Cat Rescue Foundation – https://www.lostdogrescue.org/ \n 
URL:https://governmentexecutiveconsultingservices.com/event/federal-contractors-summer-soiree-networking-event-2/
ATTACH;FMTTYPE=image/png:https://governmentexecutiveconsultingservices.com/wp-content/uploads/2025/06/Screen-Shot-2025-06-08-at-5.29.43-PM.png
END:VEVENT
END:VCALENDAR