BEGIN:VCALENDAR
VERSION:2.0
PRODID:-//Government Executive Consulting Services - ECPv6.15.20//NONSGML v1.0//EN
CALSCALE:GREGORIAN
METHOD:PUBLISH
X-WR-CALNAME:Government Executive Consulting Services
X-ORIGINAL-URL:https://governmentexecutiveconsultingservices.com
X-WR-CALDESC:Events for Government Executive Consulting Services
REFRESH-INTERVAL;VALUE=DURATION:PT1H
X-Robots-Tag:noindex
X-PUBLISHED-TTL:PT1H
BEGIN:VTIMEZONE
TZID:America/New_York
BEGIN:DAYLIGHT
TZOFFSETFROM:-0500
TZOFFSETTO:-0400
TZNAME:EDT
DTSTART:20230312T070000
END:DAYLIGHT
BEGIN:STANDARD
TZOFFSETFROM:-0400
TZOFFSETTO:-0500
TZNAME:EST
DTSTART:20231105T060000
END:STANDARD
BEGIN:DAYLIGHT
TZOFFSETFROM:-0500
TZOFFSETTO:-0400
TZNAME:EDT
DTSTART:20240310T070000
END:DAYLIGHT
BEGIN:STANDARD
TZOFFSETFROM:-0400
TZOFFSETTO:-0500
TZNAME:EST
DTSTART:20241103T060000
END:STANDARD
BEGIN:DAYLIGHT
TZOFFSETFROM:-0500
TZOFFSETTO:-0400
TZNAME:EDT
DTSTART:20250309T070000
END:DAYLIGHT
BEGIN:STANDARD
TZOFFSETFROM:-0400
TZOFFSETTO:-0500
TZNAME:EST
DTSTART:20251102T060000
END:STANDARD
END:VTIMEZONE
BEGIN:VEVENT
DTSTART;TZID=America/New_York:20240624T053000
DTEND;TZID=America/New_York:20240624T193000
DTSTAMP:20260423T190644
CREATED:20240616T182803Z
LAST-MODIFIED:20240616T182803Z
UID:8048-1719207000-1719257400@governmentexecutiveconsultingservices.com
SUMMARY:Federal Contractors SUMMER Soiree Networking Event
DESCRIPTION:About this event\n\n\n\n\n\n\nFor over 18 years\, JSchaus & Associates have been hosting networking events for US Federal Government Contractors at The John F Kennedy Center\, (KC Cafe). \nEVENT PARTNER: Bidspeed – https://fedbidspeed.com/ \nFIND US IN THE KC CAFE – ON THE TERRACE LEVEL \nMeet\, mix & mingle with US Federal Government Departments and Agencies as well as contractors\, teaming partners\, and more! \nThe event is 2 hours of hard core “NETWORKING ONLY” in a trade show style format. \nThere are NO speakers. \nThis is NOT a conference. \n>>> THERE IS NO VIRTUAL COMPONENT AS THIS IS A NETWORKING EVENT <<< \nEvent will sell out. Please REGISTER IN ADVANCE as Rates Increase on FRI 06/07/2024. \nProfessional Dress is required. \nFood and Beverage available for purchase. \nParking available for purchase on-site. \nPublic transport options also available (metro\, bus\, etc) \nMeet The FEDERAL GOVERNMENT Participants (8): \n(NOTE: Federal Government includes OSDBU and OSBP Offices) \n1 – GOV – DoD – NAVAIR – https://navair.navy.mil \n2 – GOV – USAID – https://usaid.gov \n3 – GOV – The SBA – https://sba.gov \n4 – GOV – NSF – https://www.nsf.gov \n5 – GOV – DoD – USAF – https://www.airforce.com/ \n6 – GOV – DoD – ARMY – https://www.army.mil/ \n7 – GOV – Dept of Veterans Affairs – https://www.va.gov/ \n8 – GOV – HHS – https://www.hhs.gov \nMeet Our PAID CORPORATE SPONSORS (10): \nEVENT PARTNER: \n1 – Bidspeed – https://fedbidspeed.com/ \nAnd\, Event SPONSORS: \n2 – Capital Bank – https://capitalbankmd.com/ \n3 – RXO – https://rxo.com/ \n4 – GovSpend – https://govspend.com/ \n5 – Federal Compass – https://www.federalcompass.com/ \n6 – Fully Promoted – https://www.fullypromoted.com/ \n7 – KAL Technology – https://www.kal.technology/ \n8 – Sandy Spring Bank – https://www.sandyspringbank.com/ \n9 – AtWork Systems- https://atworksys.com/ \n10 – Spartan Shield – htps://spartanshield-solutions.com/ \n11 – Vultron – https://www.vultron.ai/ \nMeet Our IN-KIND SPONSORS (3): \n1 – Virginia APEX Accelerator – https://virginiaapex.org \n2 – NOVA Hispanic Chamber – https://www.novahispanicchamber.com \n3 – ZK Development – https://www.zk-development.com/ \nREGISTER NOW! Ticket Price Increase on JUNE 7\, 2024
URL:https://governmentexecutiveconsultingservices.com/event/federal-contractors-summer-soiree-networking-event/
ATTACH;FMTTYPE=image/jpeg:https://governmentexecutiveconsultingservices.com/wp-content/uploads/2024/06/https-cdn.evbuc_.com-images-782995199-1701934728-1-original.20240604-200323.jpeg
END:VEVENT
END:VCALENDAR