BEGIN:VCALENDAR
VERSION:2.0
PRODID:-//Government Executive Consulting Services - ECPv6.15.20//NONSGML v1.0//EN
CALSCALE:GREGORIAN
METHOD:PUBLISH
X-WR-CALNAME:Government Executive Consulting Services
X-ORIGINAL-URL:https://governmentexecutiveconsultingservices.com
X-WR-CALDESC:Events for Government Executive Consulting Services
REFRESH-INTERVAL;VALUE=DURATION:PT1H
X-Robots-Tag:noindex
X-PUBLISHED-TTL:PT1H
BEGIN:VTIMEZONE
TZID:America/New_York
BEGIN:DAYLIGHT
TZOFFSETFROM:-0500
TZOFFSETTO:-0400
TZNAME:EDT
DTSTART:20230312T070000
END:DAYLIGHT
BEGIN:STANDARD
TZOFFSETFROM:-0400
TZOFFSETTO:-0500
TZNAME:EST
DTSTART:20231105T060000
END:STANDARD
BEGIN:DAYLIGHT
TZOFFSETFROM:-0500
TZOFFSETTO:-0400
TZNAME:EDT
DTSTART:20240310T070000
END:DAYLIGHT
BEGIN:STANDARD
TZOFFSETFROM:-0400
TZOFFSETTO:-0500
TZNAME:EST
DTSTART:20241103T060000
END:STANDARD
BEGIN:DAYLIGHT
TZOFFSETFROM:-0500
TZOFFSETTO:-0400
TZNAME:EDT
DTSTART:20250309T070000
END:DAYLIGHT
BEGIN:STANDARD
TZOFFSETFROM:-0400
TZOFFSETTO:-0500
TZNAME:EST
DTSTART:20251102T060000
END:STANDARD
END:VTIMEZONE
BEGIN:VEVENT
DTSTART;TZID=America/New_York:20240209T080000
DTEND;TZID=America/New_York:20240209T133000
DTSTAMP:20260424T075439
CREATED:20231105T202153Z
LAST-MODIFIED:20231105T202529Z
UID:7518-1707465600-1707485400@governmentexecutiveconsultingservices.com
SUMMARY:Defense IT Summit 2024 | Arlington
DESCRIPTION:We’re bringing together federal and industry leaders at Defense IT Summit to discuss how IT modernization programs are restructuring the defense landscape. Hear senior leadership’s priorities and get a jump start on the shifting needs around artificial intelligence\, CJADC2\, data innovation\, and workforce development.
URL:https://governmentexecutiveconsultingservices.com/event/defense-it-summit-2024-arlington/
ATTACH;FMTTYPE=image/jpeg:https://governmentexecutiveconsultingservices.com/wp-content/uploads/2023/11/https-cdn.evbuc_.com-images-634745569-1330400818243-1-original.20231103-193030.jpeg
END:VEVENT
END:VCALENDAR