BEGIN:VCALENDAR
VERSION:2.0
PRODID:-//Government Executive Consulting Services - ECPv6.15.20//NONSGML v1.0//EN
CALSCALE:GREGORIAN
METHOD:PUBLISH
X-WR-CALNAME:Government Executive Consulting Services
X-ORIGINAL-URL:https://governmentexecutiveconsultingservices.com
X-WR-CALDESC:Events for Government Executive Consulting Services
REFRESH-INTERVAL;VALUE=DURATION:PT1H
X-Robots-Tag:noindex
X-PUBLISHED-TTL:PT1H
BEGIN:VTIMEZONE
TZID:America/New_York
BEGIN:DAYLIGHT
TZOFFSETFROM:-0500
TZOFFSETTO:-0400
TZNAME:EDT
DTSTART:20230312T070000
END:DAYLIGHT
BEGIN:STANDARD
TZOFFSETFROM:-0400
TZOFFSETTO:-0500
TZNAME:EST
DTSTART:20231105T060000
END:STANDARD
BEGIN:DAYLIGHT
TZOFFSETFROM:-0500
TZOFFSETTO:-0400
TZNAME:EDT
DTSTART:20240310T070000
END:DAYLIGHT
BEGIN:STANDARD
TZOFFSETFROM:-0400
TZOFFSETTO:-0500
TZNAME:EST
DTSTART:20241103T060000
END:STANDARD
BEGIN:DAYLIGHT
TZOFFSETFROM:-0500
TZOFFSETTO:-0400
TZNAME:EDT
DTSTART:20250309T070000
END:DAYLIGHT
BEGIN:STANDARD
TZOFFSETFROM:-0400
TZOFFSETTO:-0500
TZNAME:EST
DTSTART:20251102T060000
END:STANDARD
END:VTIMEZONE
BEGIN:VEVENT
DTSTART;TZID=America/New_York:20240626T190000
DTEND;TZID=America/New_York:20240627T220000
DTSTAMP:20260423T224000
CREATED:20240407T220743Z
LAST-MODIFIED:20240407T220743Z
UID:7867-1719428400-1719525600@governmentexecutiveconsultingservices.com
SUMMARY:2024 Small Business Contracting Conference & Expo
DESCRIPTION:Date and time\n\n\n \n\nJune 26 · 7pm – June 27 · 5pm EDT\n\n\n\n\n\n\n\n\n\n\n\n\n\n\nLocation\n\n \n\nBWI Airport Marriott \n1743 West Nursery Road Linthicum Heights\, MD 21090 \nShow map\n\n\n\n\n\n\n\n\n\n\n\nRefund Policy\n\nContact the organizer to request a refund.\n\n\n\n\n\n\n\nAgenda\n\n\n\n\n\nGeneral Sessions (including meals) \n\n\n\n\n6:30 PM – 10:00 PM \nWed. Evening Gala Dinner \n\n\nEric Morrissette \n\n\n\nUnder Secretary MBDA U.S Department of Commerce\n\n\n\n\n7:30 AM – 9:30 AM \nThursday Breakfast Contracting Panel Discussion \n\n\nModerated by Ron Uba MBDA \n\n\nUSAMRDC\,NSA\,DoN BAH\, Md. Gov. Office \n\n\n\nBuyers from Federal\, State\, Military and Fortune 500 discuss contracting opportunities and strategies\n\n\n\n\n12:00 PM – 2:00 PM \nSmall Business Procurement Luncheon \n\n\n\n\n——————————————————— \n\n\n\n\nBELOW are Workshops – with more to be added \n\n\n\n\nThe Department of the Navy (DON) Arveice M. Washington \n\n\n\n\nDoing Business with the Military Sealift Command Jacque Alford \n\n\n\n\nMBDA Business Center Tommy Marks \n\n\n\n\nContracting with Devcom David O. Christ \n\n\n\n\nStrategies Obtaining Credentials Procurement and Grants Ron Uba \n\n\n\n\nU.S. Department of Veterans Affairs Antoine Broughton\, Anna Urman \n\n\n\n\nNaval Supply Systems Command (NAVSUP) \n\n\n\n\nNational Bid Network GovPurchase Kim Harwell \n\n\n\n\nMarine Corps Installations East USMC Chris Rabassi \n\n\n\n\nU.S. Army Medical Technology Transfer Contract Opportunities Barry Datlof \n\n\n\n\nContracting with the National Security Agency at Fort Meade Scott Jackson \n\n\n\n\nMaryland Governor’s Office Alison Tavik \n\n\n\n\nBooz Allen Hamilton How BAH Helps Small Business Alex Agyemang\, MBA\, CSCP \n\n\n\nCollapse agenda\n\n\n\n\n\n\n\n\nAbout this event\n\n\n22 hours\n\n\n\n\n\n\nWe are excited to announce this opportunity to learn first hand how to win your first contract or to increase your contracts with state and federal agencies and fortune 500 companies that place high value on their relationships with small business contractors that make it possible to get business done. \nThis conference & expo is packed with people who care about this country and are driven to make a positive difference in our economy. \nPlease take a minute to look over what is happening this June at the 2024 Small Business Contracting Conference in Baltimore\, Maryland. We welcome you to attend or exhibit\, and we encourge you to bring your “A” game\, to network\, ask lots of questions\, and move your goals forward to compete and win well deserved contracts – procurement opportunities just waiting for you to bid on. \nThank you\, \nJay Elliott
URL:https://governmentexecutiveconsultingservices.com/event/2024-small-business-contracting-conference-expo/
ATTACH;FMTTYPE=image/jpeg:https://governmentexecutiveconsultingservices.com/wp-content/uploads/2024/04/https-cdn.evbuc_.com-images-705025449-177364294625-1-original.20240226-023658.jpeg
END:VEVENT
END:VCALENDAR